BEGIN:VCALENDAR
VERSION:2.0
PRODID:-//Potato Country - ECPv6.15.17.1//NONSGML v1.0//EN
CALSCALE:GREGORIAN
METHOD:PUBLISH
X-WR-CALNAME:Potato Country
X-ORIGINAL-URL:https://potatocountry.com
X-WR-CALDESC:Events for Potato Country
REFRESH-INTERVAL;VALUE=DURATION:PT1H
X-Robots-Tag:noindex
X-PUBLISHED-TTL:PT1H
BEGIN:VTIMEZONE
TZID:America/Denver
BEGIN:DAYLIGHT
TZOFFSETFROM:-0700
TZOFFSETTO:-0600
TZNAME:MDT
DTSTART:20240310T090000
END:DAYLIGHT
BEGIN:STANDARD
TZOFFSETFROM:-0600
TZOFFSETTO:-0700
TZNAME:MST
DTSTART:20241103T080000
END:STANDARD
BEGIN:DAYLIGHT
TZOFFSETFROM:-0700
TZOFFSETTO:-0600
TZNAME:MDT
DTSTART:20250309T090000
END:DAYLIGHT
BEGIN:STANDARD
TZOFFSETFROM:-0600
TZOFFSETTO:-0700
TZNAME:MST
DTSTART:20251102T080000
END:STANDARD
BEGIN:DAYLIGHT
TZOFFSETFROM:-0700
TZOFFSETTO:-0600
TZNAME:MDT
DTSTART:20260308T090000
END:DAYLIGHT
BEGIN:STANDARD
TZOFFSETFROM:-0600
TZOFFSETTO:-0700
TZNAME:MST
DTSTART:20261101T080000
END:STANDARD
BEGIN:DAYLIGHT
TZOFFSETFROM:-0700
TZOFFSETTO:-0600
TZNAME:MDT
DTSTART:20270314T090000
END:DAYLIGHT
BEGIN:STANDARD
TZOFFSETFROM:-0600
TZOFFSETTO:-0700
TZNAME:MST
DTSTART:20271107T080000
END:STANDARD
END:VTIMEZONE
BEGIN:VTIMEZONE
TZID:America/New_York
BEGIN:DAYLIGHT
TZOFFSETFROM:-0500
TZOFFSETTO:-0400
TZNAME:EDT
DTSTART:20250309T070000
END:DAYLIGHT
BEGIN:STANDARD
TZOFFSETFROM:-0400
TZOFFSETTO:-0500
TZNAME:EST
DTSTART:20251102T060000
END:STANDARD
BEGIN:DAYLIGHT
TZOFFSETFROM:-0500
TZOFFSETTO:-0400
TZNAME:EDT
DTSTART:20260308T070000
END:DAYLIGHT
BEGIN:STANDARD
TZOFFSETFROM:-0400
TZOFFSETTO:-0500
TZNAME:EST
DTSTART:20261101T060000
END:STANDARD
BEGIN:DAYLIGHT
TZOFFSETFROM:-0500
TZOFFSETTO:-0400
TZNAME:EDT
DTSTART:20270314T070000
END:DAYLIGHT
BEGIN:STANDARD
TZOFFSETFROM:-0400
TZOFFSETTO:-0500
TZNAME:EST
DTSTART:20271107T060000
END:STANDARD
END:VTIMEZONE
BEGIN:VEVENT
DTSTART;TZID=America/Denver:20260726T080000
DTEND;TZID=America/Denver:20260730T120000
DTSTAMP:20260421T052424
CREATED:20260209T172840Z
LAST-MODIFIED:20260209T172840Z
UID:12571-1785052800-1785412800@potatocountry.com
SUMMARY:Potato Association of America Annual Meeting
DESCRIPTION:
URL:https://potatocountry.com/event/potato-association-of-america-annual-meeting-5/
LOCATION:WA
END:VEVENT
BEGIN:VEVENT
DTSTART;TZID=America/Denver:20260722T080000
DTEND;TZID=America/Denver:20260724T120000
DTSTAMP:20260421T052424
CREATED:20260209T172736Z
LAST-MODIFIED:20260209T172736Z
UID:12569-1784707200-1784894400@potatocountry.com
SUMMARY:NPC Summer Meeting
DESCRIPTION:
URL:https://potatocountry.com/event/npc-summer-meeting-4/
LOCATION:Detroit\, Detroit\, MI\, United States
END:VEVENT
BEGIN:VEVENT
DTSTART;TZID=America/Denver:20260720T080000
DTEND;TZID=America/Denver:20260722T120000
DTSTAMP:20260421T052424
CREATED:20260209T172631Z
LAST-MODIFIED:20260209T172631Z
UID:12566-1784534400-1784721600@potatocountry.com
SUMMARY:Potatoes USA Summer Meeting
DESCRIPTION:
URL:https://potatocountry.com/event/potatoes-usa-summer-meeting-5/
LOCATION:Detroit\, Detroit\, MI\, United States
ORGANIZER;CN="Potatoes USA":MAILTO:caitlinr@potatoesusa.com
END:VEVENT
BEGIN:VEVENT
DTSTART;TZID=America/Denver:20260715T080000
DTEND;TZID=America/Denver:20260717T120000
DTSTAMP:20260421T052424
CREATED:20260324T193534Z
LAST-MODIFIED:20260324T193534Z
UID:12681-1784102400-1784289600@potatocountry.com
SUMMARY:2026 Potato Sustainability Alliance Summer Symposium
DESCRIPTION:
URL:https://potatocountry.com/event/2026-potato-sustainability-alliance-summer-symposium/
LOCATION:Food and Farm Exploration Center\, 3400 Innovation Drive\, Plover\, WI\, 54467\, United States
END:VEVENT
BEGIN:VEVENT
DTSTART;TZID=America/New_York:20260713T080000
DTEND;TZID=America/New_York:20260716T170000
DTSTAMP:20260421T052424
CREATED:20251219T184053Z
LAST-MODIFIED:20251219T184053Z
UID:12430-1783929600-1784221200@potatocountry.com
SUMMARY:Potato LEAF - Leadership in the Field
DESCRIPTION:Potato LEAF Opens 2026 ‘Leadership in the Field’ Applications
URL:https://potatocountry.com/event/potato-leaf-leadership-in-the-field/
LOCATION:Gettysburg National Military Park\, 1195 Baltimore Pike\, Gettysburg\, PA\, 17325\, United States
END:VEVENT
BEGIN:VEVENT
DTSTART;TZID=America/Denver:20260621T080000
DTEND;TZID=America/Denver:20260623T170000
DTSTAMP:20260421T052424
CREATED:20260409T164123Z
LAST-MODIFIED:20260409T164123Z
UID:12733-1782028800-1782234000@potatocountry.com
SUMMARY:Washington Potato & Onion Association Annual Summer Meeting
DESCRIPTION:Washington Potato & Onion Meeting Set for June 21-23
URL:https://potatocountry.com/event/washington-potato-onion-association-annual-summer-meeting/
LOCATION:Marcus Whitman Hotel\, 6 W Rose St.\, Walla Walla\, WA\, 99362
END:VEVENT
BEGIN:VEVENT
DTSTART;TZID=America/Denver:20260604T080000
DTEND;TZID=America/Denver:20260604T120000
DTSTAMP:20260421T052424
CREATED:20260209T172504Z
LAST-MODIFIED:20260209T172504Z
UID:12564-1780560000-1780574400@potatocountry.com
SUMMARY:Ag World Golf Classic - Moses Lake
DESCRIPTION:
URL:https://potatocountry.com/event/ag-world-golf-classic-moses-lake/
LOCATION:The Links at Moses Pointe\, 4524 Westshore Dr NE\,\, Moses Lake\, WA\, 98837\, United States
END:VEVENT
BEGIN:VEVENT
DTSTART;TZID=America/Denver:20260602T080000
DTEND;TZID=America/Denver:20260602T120000
DTSTAMP:20260421T052424
CREATED:20260209T172358Z
LAST-MODIFIED:20260209T172358Z
UID:12562-1780387200-1780401600@potatocountry.com
SUMMARY:Ag World Golf Classic - Kennewick
DESCRIPTION:
URL:https://potatocountry.com/event/ag-world-golf-classic-kennewick/
LOCATION:Canyon Lakes Golf Course\, 3700 W. Canyon Lakes Drive\, Kennewick\, WA\, 99337\, United States
END:VEVENT
BEGIN:VEVENT
DTSTART;TZID=America/Denver:20260309T080000
DTEND;TZID=America/Denver:20260312T120000
DTSTAMP:20260421T052424
CREATED:20251202T164132Z
LAST-MODIFIED:20251202T164132Z
UID:12373-1773043200-1773316800@potatocountry.com
SUMMARY:Potatoes USA Spring Meeting
DESCRIPTION:
URL:https://potatocountry.com/event/potatoes-usa-spring-meeting/
LOCATION:WA
ORGANIZER;CN="Potatoes USA":MAILTO:caitlinr@potatoesusa.com
END:VEVENT
BEGIN:VEVENT
DTSTART;TZID=America/Denver:20260226T080000
DTEND;TZID=America/Denver:20260226T123000
DTSTAMP:20260421T052424
CREATED:20260116T190937Z
LAST-MODIFIED:20260116T190937Z
UID:12508-1772092800-1772109000@potatocountry.com
SUMMARY:Miller Research 2026 Potato Disease Management Seminar
DESCRIPTION:2026 Miller Research Potato Pest Management Seminar
URL:https://potatocountry.com/event/miller-research-2026-potato-disease-management-seminar/
LOCATION:Wilson Theater\, Address: 610 Fremont Ave\,\, Rupert\, ID\, 83350\, United States
END:VEVENT
BEGIN:VEVENT
DTSTART;TZID=America/Denver:20260223T080000
DTEND;TZID=America/Denver:20260226T120000
DTSTAMP:20260421T052424
CREATED:20251117T181612Z
LAST-MODIFIED:20251117T181612Z
UID:12344-1771833600-1772107200@potatocountry.com
SUMMARY:NPC Washington Summit
DESCRIPTION:
URL:https://potatocountry.com/event/npc-washington-summit-2/
LOCATION:Hilton Washington DC National Mall the Wharf\, 480 L'Enfant Plaza SW\, Washington\, DC\, 20024\, United States
END:VEVENT
BEGIN:VEVENT
DTSTART;TZID=America/Denver:20260203T080000
DTEND;TZID=America/Denver:20260205T170000
DTSTAMP:20260421T052424
CREATED:20251210T160831Z
LAST-MODIFIED:20251210T160831Z
UID:12391-1770105600-1770310800@potatocountry.com
SUMMARY:Southern Rocky Mountain Ag Conference
DESCRIPTION:Theme: Managing the Chaos: Harnessing Complexity – Planting Hope \nFeb. 3-5: Southern Rocky Mountain Ag Conference
URL:https://potatocountry.com/event/southern-rocky-mountain-ag-conference-3/
LOCATION:Ski Hi Complex\, 2389-2499 Sherman Ave\, Monte Vista\, CO\, 81144\, United States
END:VEVENT
BEGIN:VEVENT
DTSTART;TZID=America/Denver:20260127T080000
DTEND;TZID=America/Denver:20260129T170000
DTSTAMP:20260421T052424
CREATED:20251210T170904Z
LAST-MODIFIED:20251210T170904Z
UID:12393-1769500800-1769706000@potatocountry.com
SUMMARY:2026 Winter Potato Conference
DESCRIPTION:https://www.mipotatoindustry.com/2026-winter-potato-conference
URL:https://potatocountry.com/event/2026-winter-potato-conference/
LOCATION:Sheraton Grand Rapids Airport Hotel\, 5700 28th St SE\, Grand Rapids\, Michigan\, 49546
END:VEVENT
BEGIN:VEVENT
DTSTART;TZID=America/Denver:20260127T080000
DTEND;TZID=America/Denver:20260129T120000
DTSTAMP:20260421T052424
CREATED:20251117T181507Z
LAST-MODIFIED:20251117T181507Z
UID:12342-1769500800-1769688000@potatocountry.com
SUMMARY:Washington-Oregon Potato Conference
DESCRIPTION:
URL:https://potatocountry.com/event/washington-oregon-potato-conference-4/
LOCATION:3 Rivers Convention Center\, 7016 W Grandridge Blvd\, Kennewick\, WA\, 99336\, United States
END:VEVENT
BEGIN:VEVENT
DTSTART;TZID=America/Denver:20260121T080000
DTEND;TZID=America/Denver:20260122T120000
DTSTAMP:20260421T052424
CREATED:20251117T181349Z
LAST-MODIFIED:20251117T181349Z
UID:12340-1768982400-1769083200@potatocountry.com
SUMMARY:Idaho Potato Conference and Ag Expo
DESCRIPTION:
URL:https://potatocountry.com/event/idaho-potato-conference-and-ag-expo-4/
LOCATION:Pond Student Union Building and Holt Arena\, 1080 S 5th Ave.\, Pocatello\, ID\, 83209\, United States
END:VEVENT
BEGIN:VEVENT
DTSTART;TZID=America/Denver:20260107T080000
DTEND;TZID=America/Denver:20260107T110000
DTSTAMP:20260421T052424
CREATED:20251218T170840Z
LAST-MODIFIED:20251218T170840Z
UID:12423-1767772800-1767783600@potatocountry.com
SUMMARY:Potato Business Summit
DESCRIPTION:First day of Potato Expo.
URL:https://potatocountry.com/event/potato-business-summit-2/
LOCATION:Gaylord Texan\, 1501 Gaylord Trl\,\, Grapevine\, TX\, 76051\, United States
END:VEVENT
BEGIN:VEVENT
DTSTART;TZID=America/Denver:20260106T080000
DTEND;TZID=America/Denver:20260108T120000
DTSTAMP:20260421T052424
CREATED:20251117T181205Z
LAST-MODIFIED:20251117T181205Z
UID:12337-1767686400-1767873600@potatocountry.com
SUMMARY:Potato Expo 2026
DESCRIPTION:
URL:https://potatocountry.com/event/potato-expo-2026/
LOCATION:Gaylord Texan\, 1501 Gaylord Trl\,\, Grapevine\, TX\, 76051\, United States
END:VEVENT
BEGIN:VEVENT
DTSTART;TZID=America/Denver:20251119T080000
DTEND;TZID=America/Denver:20251120T120000
DTSTAMP:20260421T052424
CREATED:20250630T210106Z
LAST-MODIFIED:20250630T210106Z
UID:12004-1763539200-1763640000@potatocountry.com
SUMMARY:Pacific Northwest Vegetable Association Conference and Trade Show
DESCRIPTION:
URL:https://potatocountry.com/event/pacific-northwest-vegetable-association-conference-and-trade-show-4/
LOCATION:Three Rivers Convention Center\, 7016 W Grandridge Blvd\,\, Kennewick\, WA\, 99336\, United States
END:VEVENT
BEGIN:VEVENT
DTSTART;TZID=America/Denver:20251112T083000
DTEND;TZID=America/Denver:20251112T120000
DTSTAMP:20260421T052424
CREATED:20251021T212631Z
LAST-MODIFIED:20251022T180658Z
UID:12268-1762936200-1762948800@potatocountry.com
SUMMARY:Big Idaho Potato Harvest Meeting 2025
DESCRIPTION:https://idahopotato.com/industry/harvest-meeting
URL:https://potatocountry.com/event/big-idaho-potato-harvest-meeting-2025/
LOCATION:WA
END:VEVENT
BEGIN:VEVENT
DTSTART;TZID=America/Denver:20251112T080000
DTEND;TZID=America/Denver:20251113T120000
DTSTAMP:20260421T052424
CREATED:20250630T205906Z
LAST-MODIFIED:20250630T205906Z
UID:12002-1762934400-1763035200@potatocountry.com
SUMMARY:Montana Seed Potato Seminar
DESCRIPTION:
URL:https://potatocountry.com/event/montana-seed-potato-seminar-4/
LOCATION:Holiday Inn Downtown Missoula\, 200 S Pattee St\,\, Missoula\, MT\, 59802\, United States
END:VEVENT
BEGIN:VEVENT
DTSTART;TZID=America/Denver:20251105T130000
DTEND;TZID=America/Denver:20251106T120000
DTSTAMP:20260421T052424
CREATED:20250826T194128Z
LAST-MODIFIED:20250826T194548Z
UID:12168-1762347600-1762430400@potatocountry.com
SUMMARY:The Idaho Association of Plant Protection 2025 Annual Meeting
DESCRIPTION:The conference is open to anyone and will cover all aspects of plant protection including entomology\, nematology\, weed science\, and plant pathology. All interested in crop protection are invited to attend.\n\nRegistration begins at noon on Wednesday\, November 5 and the program will begin at 1:00 p.m. Registration costs $30.00 ($20.00 for students) and can be made by check\, cash\, or credit card at the door. Payment can be made prior to the meeting by making arrangements with Jeff Miller (jeff@millerresearch.com). All credit card payments will be assessed a 4% processing fee.\n\nCertified Crop Advisor (CCA) and State Pesticide Recertification credits (ISDA) will be available. We anticipate 5-6 credits for those attending both days. See the attached flier for more information.
URL:https://potatocountry.com/event/the-idaho-association-of-plant-protection-2025-annual-meeting/
LOCATION:The Herrett Center\, The Herrett Center for Arts & Science\, 315 Falls Avenue\, Twin Falls\, ID\, 83301\, United States
END:VEVENT
BEGIN:VEVENT
DTSTART;TZID=America/Denver:20250821T090000
DTEND;TZID=America/Denver:20250821T120000
DTSTAMP:20260421T052424
CREATED:20250717T201528Z
LAST-MODIFIED:20250717T201528Z
UID:12059-1755766800-1755777600@potatocountry.com
SUMMARY:Aberdeen Potato IPM Field Day on August 21
DESCRIPTION:Topics will include integrated disease management in potatoes\, non-disease topics and other crops will also be highlighted. \nRegistration begins at 8:30 a.m. and the tour begins promptly at 9:00 a.m. A free lunch will be provided when the tour concludes at noon.\nPesticide and CCA credits will be available. \nFor More Information Contact: Kasia Duellman; kduellman@uidaho.edu \nMORE INFO
URL:https://potatocountry.com/event/aberdeen-potato-ipm-field-day-on-august-21/
LOCATION:Aberdeen R&E Center\, 1693 South 2700 West Road\, Aberdeen\, ID\, 83210\, United States
END:VEVENT
BEGIN:VEVENT
DTSTART;TZID=America/Denver:20250820T080000
DTEND;TZID=America/Denver:20250820T120000
DTSTAMP:20260421T052424
CREATED:20250630T205729Z
LAST-MODIFIED:20250703T190717Z
UID:12000-1755676800-1755691200@potatocountry.com
SUMMARY:Miller Research Potato Pest Management Field Day
DESCRIPTION:
URL:https://potatocountry.com/event/miller-research-potato-pest-management-field-day-2/
LOCATION:Miller Research\, 422 East 200 North\, Rupert\,\, ID\, 83350
END:VEVENT
BEGIN:VEVENT
DTSTART;TZID=America/Denver:20250819T110000
DTEND;TZID=America/Denver:20250819T120000
DTSTAMP:20260421T052424
CREATED:20250507T164352Z
LAST-MODIFIED:20250507T164352Z
UID:11855-1755601200-1755604800@potatocountry.com
SUMMARY:Ag Talk Tuesday
DESCRIPTION: Idaho Crop Profitability Outlook — Patrick Hatzenbeuhler\, U of I Associate Professor & Extension Specialist – Crop Economics\nhost Juliet Marshall \n  \nRegister once for all sessions here
URL:https://potatocountry.com/event/ag-talk-tuesday-10/
LOCATION:WA
END:VEVENT
BEGIN:VEVENT
DTSTART;TZID=America/Denver:20250813T070000
DTEND;TZID=America/Denver:20250813T120000
DTSTAMP:20260421T052424
CREATED:20250716T153817Z
LAST-MODIFIED:20250716T153817Z
UID:12054-1755068400-1755086400@potatocountry.com
SUMMARY:Teleos Ag Stewardship Trainings - Kennewick
DESCRIPTION:
URL:https://potatocountry.com/event/teleos-ag-stewardship-trainings-kennewick-2/
LOCATION:3 Rivers Convention Center\, 7016 W Grandridge Blvd\, Kennewick\, WA\, 99336\, United States
ORGANIZER;CN="Teleos Ag Solutions":MAILTO:rmatson@teleosagsolutions.com
END:VEVENT
BEGIN:VEVENT
DTSTART;TZID=America/Denver:20250812T070000
DTEND;TZID=America/Denver:20250812T120000
DTSTAMP:20260421T052424
CREATED:20250716T153430Z
LAST-MODIFIED:20250716T153430Z
UID:12052-1754982000-1755000000@potatocountry.com
SUMMARY:Teleos Ag Stewardship Trainings - Moses Lake
DESCRIPTION:
URL:https://potatocountry.com/event/teleos-ag-stewardship-trainings-moses-lake-2/
LOCATION:Big Bend Community College\, 1800 Bolling St. NE.\, Moses Lake\, WA\, 98837\, United States
ORGANIZER;CN="Teleos Ag Solutions":MAILTO:rmatson@teleosagsolutions.com
END:VEVENT
BEGIN:VEVENT
DTSTART;TZID=America/Denver:20250806T080000
DTEND;TZID=America/Denver:20250808T120000
DTSTAMP:20260421T052424
CREATED:20250506T193928Z
LAST-MODIFIED:20250506T193928Z
UID:11838-1754467200-1754654400@potatocountry.com
SUMMARY:Potatoes USA Summer Meeting
DESCRIPTION:Boston \nCaitlin Roberts\, caitlinr@potatoesusa.com
URL:https://potatocountry.com/event/potatoes-usa-summer-meeting-4/
LOCATION:WA
ORGANIZER;CN="Potatoes USA":MAILTO:caitlinr@potatoesusa.com
END:VEVENT
BEGIN:VEVENT
DTSTART;TZID=America/Denver:20250805T110000
DTEND;TZID=America/Denver:20250805T120000
DTSTAMP:20260421T052424
CREATED:20250507T164237Z
LAST-MODIFIED:20250507T164237Z
UID:11853-1754391600-1754395200@potatocountry.com
SUMMARY:Ag Talk Tuesday
DESCRIPTION:To be determined\nhost Kasia Duellman \n  \nRegister once for all sessions here
URL:https://potatocountry.com/event/ag-talk-tuesday-9/
LOCATION:WA
END:VEVENT
BEGIN:VEVENT
DTSTART;TZID=America/Denver:20250730T080000
DTEND;TZID=America/Denver:20250730T170000
DTSTAMP:20260421T052424
CREATED:20250730T175914Z
LAST-MODIFIED:20250730T175914Z
UID:12113-1753862400-1753894800@potatocountry.com
SUMMARY:U of I Parma Field Day
DESCRIPTION:https://potatocountry3745.live-website.com/2025/07/30/u-of-i-field-day-at-parma-idaho-on-aug-14/
URL:https://potatocountry.com/event/u-of-i-parma-field-day/
LOCATION:UI Parma\, 29603 U of I Lane\, Parma\, Idaho\, 83660
END:VEVENT
BEGIN:VEVENT
DTSTART;TZID=America/Denver:20250727T080000
DTEND;TZID=America/Denver:20250731T170000
DTSTAMP:20260421T052424
CREATED:20250506T193811Z
LAST-MODIFIED:20250506T193811Z
UID:11836-1753603200-1753981200@potatocountry.com
SUMMARY:Potato Association of America Annual Meeting
DESCRIPTION:Madison\, Wisc. \n 
URL:https://potatocountry.com/event/potato-association-of-america-annual-meeting-4/
LOCATION:WA
END:VEVENT
END:VCALENDAR